BEGIN:VCALENDAR
VERSION:2.0
PRODID:-//hacksw/handcal//NONSGML v1.0//EN
BEGIN:VEVENT
UID:15c019ff37c6c67df8a122040a6f1b85@fcl.org
DTSTAMP:20260419T155001Z
DTSTART:20260902T000000Z
DTEND:20260902T000000Z
SUMMARY:Conway - After School Hangout
END:VEVENT
END:VCALENDAR