BEGIN:VCALENDAR
VERSION:2.0
PRODID:-//hacksw/handcal//NONSGML v1.0//EN
BEGIN:VEVENT
UID:df1070192d4e3e5091568128b94e1e5c@fcl.org
DTSTAMP:20260420T075411Z
DTSTART:20260708T000000Z
DTEND:20260708T000000Z
SUMMARY:Conway - After School Hangout
END:VEVENT
END:VCALENDAR